BEGIN:VCALENDAR
VERSION:2.0
PRODID:-//Tukios.com/
BEGIN:VEVENT
UID:57b50147-64ca-4117-8116-15b090267021@www.talbottfh.com
DTSTAMP:20260420T190409Z
DTSTART:20260422T180000Z
DTEND:20260422T190000Z
SUMMARY:Graveside Service
DESCRIPTION:
URL:https://www.talbottfh.com/obituaries/betty-beaty
LOCATION: 1106 N. Cross St  Albany KY 42602
GEO:36.7015091;-85.1340023
END:VEVENT
END:VCALENDAR