BEGIN:VCALENDAR
VERSION:2.0
PRODID:-//Tukios.com/
BEGIN:VEVENT
UID:c68560f8-471a-49eb-ac83-05f1040d6e6b@www.talbottfh.com
DTSTAMP:20260424T000706Z
DTSTART:20260426T190000Z
DTEND:20260426T200000Z
SUMMARY:Funeral Service
DESCRIPTION:
URL:https://www.talbottfh.com/obituaries/edith-jean-bowlin
LOCATION: 1106 N Cross St  Albany KY 42602
GEO:36.7015091;-85.1340023
END:VEVENT
END:VCALENDAR